BEGIN:VCALENDAR
VERSION:2.0
PRODID:-//Hockeytech//Leaguestat iCal//EN
BEGIN:VEVENT
UID:298669e7abd43a548329@hockeytech.com
TZID:UTC
DTSTART:20260425T160000Z
DTEND:20260425T190000Z
DTSTAMP:20260425T160000
DESCRIPTION:You have an PWHL hockey game scheduled
LOCATION:Tsongas Center | Lowell
SUMMARY:New York Sirens @ Boston Fleet
STATUS:CONFIRMED
END:VEVENT
END:VCALENDAR