BEGIN:VCALENDAR
VERSION:2.0
PRODID:-//Hockeytech//Leaguestat iCal//EN
BEGIN:VEVENT
UID:81669e7ac233f2ca328@hockeytech.com
TZID:UTC
DTSTART:20260425T180000Z
DTEND:20260425T210000Z
DTSTAMP:20260425T180000
DESCRIPTION:You have an PWHL hockey game scheduled
LOCATION:TD Place | Ottawa
SUMMARY:Toronto Sceptres @ Ottawa Charge
STATUS:CONFIRMED
END:VEVENT
END:VCALENDAR