BEGIN:VCALENDAR
VERSION:2.0
PRODID:-//Hockeytech//Leaguestat iCal//EN
BEGIN:VEVENT
UID:442569e7ac7f8e4c9326@hockeytech.com
TZID:UTC
DTSTART:20260426T020000Z
DTEND:20260426T050000Z
DTSTAMP:20260426T020000
DESCRIPTION:You have an PWHL hockey game scheduled
LOCATION:Climate Pledge Arena | Seattle
SUMMARY:Montréal Victoire @ Seattle Torrent
STATUS:CONFIRMED
END:VEVENT
END:VCALENDAR