BEGIN:VCALENDAR
VERSION:2.0
PRODID:-//Hockeytech//Leaguestat iCal//EN
BEGIN:VEVENT
UID:867069e7abea5edf4324@hockeytech.com
TZID:UTC
DTSTART:20260422T230000Z
DTEND:20260423T020000Z
DTSTAMP:20260422T230000
DESCRIPTION:You have an PWHL hockey game scheduled
LOCATION:Tsongas Center | Lowell
SUMMARY:Ottawa Charge @ Boston Fleet
STATUS:CONFIRMED
END:VEVENT
END:VCALENDAR