BEGIN:VCALENDAR
VERSION:2.0
PRODID:-//Hockeytech//Leaguestat iCal//EN
BEGIN:VEVENT
UID:1993469e7ac510aea4323@hockeytech.com
TZID:UTC
DTSTART:20260422T020000Z
DTEND:20260422T050000Z
DTSTAMP:20260422T020000
DESCRIPTION:You have an PWHL hockey game scheduled
LOCATION:Pacific Coliseum | Vancouver
SUMMARY:Montréal Victoire @ Vancouver Goldeneyes
STATUS:CONFIRMED
END:VEVENT
END:VCALENDAR