BEGIN:VCALENDAR
VERSION:2.0
PRODID:-//Hockeytech//Leaguestat iCal//EN
BEGIN:VEVENT
UID:51769e7ac287b4c2322@hockeytech.com
TZID:UTC
DTSTART:20260421T230000Z
DTEND:20260422T020000Z
DTSTAMP:20260421T230000
DESCRIPTION:You have an PWHL hockey game scheduled
LOCATION:Coca-Cola Coliseum | Toronto
SUMMARY:New York Sirens @ Toronto Sceptres
STATUS:CONFIRMED
END:VEVENT
END:VCALENDAR