BEGIN:VCALENDAR
VERSION:2.0
PRODID:-//Hockeytech//Leaguestat iCal//EN
BEGIN:VEVENT
UID:9769e83c99b2c4f12480@hockeytech.com
TZID:UTC
DTSTART:20230913T020000Z
DTEND:20230913T050000Z
DTSTAMP:20230913T020000
DESCRIPTION:You have an BCHL hockey game scheduled
LOCATION:Chilliwack Coliseum
SUMMARY:Surrey Eagles @ Chilliwack Chiefs
STATUS:CONFIRMED
END:VEVENT
END:VCALENDAR