BEGIN:VCALENDAR
VERSION:2.0
PRODID:-//Hockeytech//Leaguestat iCal//EN
BEGIN:VEVENT
UID:295169e852593467812478@hockeytech.com
TZID:UTC
DTSTART:20230915T023000Z
DTEND:20230915T053000Z
DTSTAMP:20230915T023000
DESCRIPTION:You have an BCHL hockey game scheduled
LOCATION:Cominco Arena
SUMMARY:Powell River Kings @ Trail Smoke Eaters
STATUS:CONFIRMED
END:VEVENT
END:VCALENDAR