BEGIN:VCALENDAR
VERSION:2.0
PRODID:-//Hockeytech//Leaguestat iCal//EN
BEGIN:VEVENT
UID:1166669e83c9a12d9e12475@hockeytech.com
TZID:UTC
DTSTART:20230917T030000Z
DTEND:20230917T060000Z
DTSTAMP:20230917T030000
DESCRIPTION:You have an BCHL hockey game scheduled
LOCATION:Alberni Valley Multiplex
SUMMARY:Cowichan Valley Capitals @ Alberni Valley Bulldogs
STATUS:CONFIRMED
END:VEVENT
END:VCALENDAR