BEGIN:VCALENDAR
VERSION:2.0
PRODID:-//Hockeytech//Leaguestat iCal//EN
BEGIN:VEVENT
UID:42769e853855afd212474@hockeytech.com
TZID:UTC
DTSTART:20230916T210000Z
DTEND:20230917T000000Z
DTSTAMP:20230916T210000
DESCRIPTION:You have an BCHL hockey game scheduled
LOCATION:South Okanagan Events Centre
SUMMARY:Chilliwack Chiefs @ Penticton Vees
STATUS:CONFIRMED
END:VEVENT
END:VCALENDAR