BEGIN:VCALENDAR
VERSION:2.0
PRODID:-//Hockeytech//Leaguestat iCal//EN
BEGIN:VEVENT
UID:36269e83c94e0e0312472@hockeytech.com
TZID:UTC
DTSTART:20230916T020000Z
DTEND:20230916T050000Z
DTSTAMP:20230916T020000
DESCRIPTION:You have an BCHL hockey game scheduled
LOCATION:Royal LePage Place
SUMMARY:Vernon Vipers @ West Kelowna Warriors
STATUS:CONFIRMED
END:VEVENT
END:VCALENDAR