BEGIN:VCALENDAR
VERSION:2.0
PRODID:-//Hockeytech//Leaguestat iCal//EN
BEGIN:VEVENT
UID:2011469e851fccdd3d12471@hockeytech.com
TZID:UTC
DTSTART:20230916T020000Z
DTEND:20230916T050000Z
DTSTAMP:20230916T020000
DESCRIPTION:You have an BCHL hockey game scheduled
LOCATION:Rogers Rink
SUMMARY:Merritt Centennials @ Salmon Arm Silverbacks
STATUS:CONFIRMED
END:VEVENT
END:VCALENDAR