BEGIN:VCALENDAR
VERSION:2.0
PRODID:-//Hockeytech//Leaguestat iCal//EN
BEGIN:VEVENT
UID:240769e83db01d95d12469@hockeytech.com
TZID:UTC
DTSTART:20230909T020000Z
DTEND:20230909T050000Z
DTSTAMP:20230909T020000
DESCRIPTION:You have an BCHL hockey game scheduled
LOCATION:Nicola Valley Memorial Arena
SUMMARY:West Kelowna Warriors @ Merritt Centennials
STATUS:CONFIRMED
END:VEVENT
END:VCALENDAR