BEGIN:VCALENDAR
VERSION:2.0
PRODID:-//Hockeytech//Leaguestat iCal//EN
BEGIN:VEVENT
UID:714169e83c055784612468@hockeytech.com
TZID:UTC
DTSTART:20230916T023000Z
DTEND:20230916T053000Z
DTSTAMP:20230916T023000
DESCRIPTION:You have an BCHL hockey game scheduled
LOCATION:Cominco Arena
SUMMARY:Prince George Spruce Kings @ Trail Smoke Eaters
STATUS:CONFIRMED
END:VEVENT
END:VCALENDAR