BEGIN:VCALENDAR
VERSION:2.0
PRODID:-//Hockeytech//Leaguestat iCal//EN
BEGIN:VEVENT
UID:171469e83d1046d6812467@hockeytech.com
TZID:UTC
DTSTART:20230917T020000Z
DTEND:20230917T050000Z
DTSTAMP:20230917T020000
DESCRIPTION:You have an BCHL hockey game scheduled
LOCATION:The Q Centre
SUMMARY:Nanaimo Clippers @ Victoria Grizzlies
STATUS:CONFIRMED
END:VEVENT
END:VCALENDAR