BEGIN:VCALENDAR
VERSION:2.0
PRODID:-//Hockeytech//Leaguestat iCal//EN
BEGIN:VEVENT
UID:688969e83d58f0e5112466@hockeytech.com
TZID:UTC
DTSTART:20230917T010000Z
DTEND:20230917T040000Z
DTSTAMP:20230917T010000
DESCRIPTION:You have an BCHL hockey game scheduled
LOCATION:Western Financial Place
SUMMARY:Trail Smoke Eaters @ Cranbrook Bucks
STATUS:CONFIRMED
END:VEVENT
END:VCALENDAR