BEGIN:VCALENDAR
VERSION:2.0
PRODID:-//Hockeytech//Leaguestat iCal//EN
BEGIN:VEVENT
UID:746269e852ea9c29812465@hockeytech.com
TZID:UTC
DTSTART:20230917T020000Z
DTEND:20230917T050000Z
DTSTAMP:20230917T020000
DESCRIPTION:You have an BCHL hockey game scheduled
LOCATION:George Preston Arena
SUMMARY:Surrey Eagles @ Langley Rivermen
STATUS:CONFIRMED
END:VEVENT
END:VCALENDAR