BEGIN:VCALENDAR
VERSION:2.0
PRODID:-//Hockeytech//Leaguestat iCal//EN
BEGIN:VEVENT
UID:2347669e852ad9e68112464@hockeytech.com
TZID:UTC
DTSTART:20230917T010000Z
DTEND:20230917T040000Z
DTSTAMP:20230917T010000
DESCRIPTION:You have an BCHL hockey game scheduled
LOCATION:Kal Tire Place
SUMMARY:West Kelowna Warriors @ Vernon Vipers
STATUS:CONFIRMED
END:VEVENT
END:VCALENDAR