BEGIN:VCALENDAR
VERSION:2.0
PRODID:-//Hockeytech//Leaguestat iCal//EN
BEGIN:VEVENT
UID:2146869e83d533dd8e12463@hockeytech.com
TZID:UTC
DTSTART:20230916T210000Z
DTEND:20230917T000000Z
DTSTAMP:20230916T210000
DESCRIPTION:You have an BCHL hockey game scheduled
LOCATION:Cominco Arena
SUMMARY:Powell River Kings @ Prince George Spruce Kings
STATUS:CONFIRMED
END:VEVENT
END:VCALENDAR