BEGIN:VCALENDAR
VERSION:2.0
PRODID:-//Hockeytech//Leaguestat iCal//EN
BEGIN:VEVENT
UID:712969e852a7de85812462@hockeytech.com
TZID:UTC
DTSTART:20230916T020000Z
DTEND:20230916T050000Z
DTSTAMP:20230916T020000
DESCRIPTION:You have an BCHL hockey game scheduled
LOCATION:Frank Crane Arena
SUMMARY:Victoria Grizzlies @ Nanaimo Clippers
STATUS:CONFIRMED
END:VEVENT
END:VCALENDAR