BEGIN:VCALENDAR
VERSION:2.0
PRODID:-//Hockeytech//Leaguestat iCal//EN
BEGIN:VEVENT
UID:1908969e83c2486d6812461@hockeytech.com
TZID:UTC
DTSTART:20230916T020000Z
DTEND:20230916T050000Z
DTSTAMP:20230916T020000
DESCRIPTION:You have an BCHL hockey game scheduled
LOCATION:Poirier Sports and Leisure Centre
SUMMARY:Surrey Eagles @ Coquitlam Express
STATUS:CONFIRMED
END:VEVENT
END:VCALENDAR