BEGIN:VCALENDAR
VERSION:2.0
PRODID:-//Hockeytech//Leaguestat iCal//EN
BEGIN:VEVENT
UID:700969e85297dd28812460@hockeytech.com
TZID:UTC
DTSTART:20230915T230000Z
DTEND:20230916T020000Z
DTSTAMP:20230915T230000
DESCRIPTION:You have an BCHL hockey game scheduled
LOCATION:Cominco Arena
SUMMARY:Cranbrook Bucks @ Powell River Kings
STATUS:CONFIRMED
END:VEVENT
END:VCALENDAR