BEGIN:VCALENDAR
VERSION:2.0
PRODID:-//Hockeytech//Leaguestat iCal//EN
BEGIN:VEVENT
UID:1108069e83c4c579f812459@hockeytech.com
TZID:UTC
DTSTART:20230914T230000Z
DTEND:20230915T020000Z
DTSTAMP:20230914T230000
DESCRIPTION:You have an BCHL hockey game scheduled
LOCATION:Cominco Arena
SUMMARY:Prince George Spruce Kings @ Cranbrook Bucks
STATUS:CONFIRMED
END:VEVENT
END:VCALENDAR