BEGIN:VCALENDAR
VERSION:2.0
PRODID:-//Hockeytech//Leaguestat iCal//EN
BEGIN:VEVENT
UID:069e83c94c370b12458@hockeytech.com
TZID:UTC
DTSTART:20230914T020000Z
DTEND:20230914T050000Z
DTSTAMP:20230914T020000
DESCRIPTION:You have an BCHL hockey game scheduled
LOCATION:Frank Crane Arena
SUMMARY:Cowichan Valley Capitals @ Nanaimo Clippers
STATUS:CONFIRMED
END:VEVENT
END:VCALENDAR