BEGIN:VCALENDAR
VERSION:2.0
PRODID:-//Hockeytech//Leaguestat iCal//EN
BEGIN:VEVENT
UID:251569e83cadb4f4212456@hockeytech.com
TZID:UTC
DTSTART:20230913T020000Z
DTEND:20230913T050000Z
DTSTAMP:20230913T020000
DESCRIPTION:You have an BCHL hockey game scheduled
LOCATION:Cowichan Community Centre
SUMMARY:Victoria Grizzlies @ Cowichan Valley Capitals
STATUS:CONFIRMED
END:VEVENT
END:VCALENDAR