BEGIN:VCALENDAR
VERSION:2.0
PRODID:-//Hockeytech//Leaguestat iCal//EN
BEGIN:VEVENT
UID:1640569e83c250bb1e12455@hockeytech.com
TZID:UTC
DTSTART:20230910T210000Z
DTEND:20230911T000000Z
DTSTAMP:20230910T210000
DESCRIPTION:You have an BCHL hockey game scheduled
LOCATION:George Preston Arena
SUMMARY:Powell River Kings @ Langley Rivermen
STATUS:CONFIRMED
END:VEVENT
END:VCALENDAR