BEGIN:VCALENDAR
VERSION:2.0
PRODID:-//Hockeytech//Leaguestat iCal//EN
BEGIN:VEVENT
UID:284169e83cfbc414012454@hockeytech.com
TZID:UTC
DTSTART:20230910T010000Z
DTEND:20230910T040000Z
DTSTAMP:20230910T010000
DESCRIPTION:You have an BCHL hockey game scheduled
LOCATION:Chilliwack Coliseum
SUMMARY:Penticton Vees @ Chilliwack Chiefs
STATUS:CONFIRMED
END:VEVENT
END:VCALENDAR