BEGIN:VCALENDAR
VERSION:2.0
PRODID:-//Hockeytech//Leaguestat iCal//EN
BEGIN:VEVENT
UID:2012569e83c04cab4e12452@hockeytech.com
TZID:UTC
DTSTART:20230910T020000Z
DTEND:20230910T050000Z
DTSTAMP:20230910T020000
DESCRIPTION:You have an BCHL hockey game scheduled
LOCATION:Poirier Sports and Leisure Centre
SUMMARY:Powell River Kings @ Coquitlam Express
STATUS:CONFIRMED
END:VEVENT
END:VCALENDAR