BEGIN:VCALENDAR
VERSION:2.0
PRODID:-//Hockeytech//Leaguestat iCal//EN
BEGIN:VEVENT
UID:540469e83d05bd88a12451@hockeytech.com
TZID:UTC
DTSTART:20230910T020000Z
DTEND:20230910T050000Z
DTSTAMP:20230910T020000
DESCRIPTION:You have an BCHL hockey game scheduled
LOCATION:The Q Centre
SUMMARY:Cowichan Valley Capitals @ Victoria Grizzlies
STATUS:CONFIRMED
END:VEVENT
END:VCALENDAR