BEGIN:VCALENDAR
VERSION:2.0
PRODID:-//Hockeytech//Leaguestat iCal//EN
BEGIN:VEVENT
UID:408569e83dbb5429712450@hockeytech.com
TZID:UTC
DTSTART:20230910T010000Z
DTEND:20230910T040000Z
DTSTAMP:20230910T010000
DESCRIPTION:You have an BCHL hockey game scheduled
LOCATION:Kal Tire Place
SUMMARY:Salmon Arm Silverbacks @ Vernon Vipers
STATUS:CONFIRMED
END:VEVENT
END:VCALENDAR