BEGIN:VCALENDAR
VERSION:2.0
PRODID:-//Hockeytech//Leaguestat iCal//EN
BEGIN:VEVENT
UID:756169e85207112d312449@hockeytech.com
TZID:UTC
DTSTART:20230909T020000Z
DTEND:20230909T050000Z
DTSTAMP:20230909T020000
DESCRIPTION:You have an BCHL hockey game scheduled
LOCATION:Rogers Rink
SUMMARY:Vernon Vipers @ Salmon Arm Silverbacks
STATUS:CONFIRMED
END:VEVENT
END:VCALENDAR