BEGIN:VCALENDAR
VERSION:2.0
PRODID:-//Hockeytech//Leaguestat iCal//EN
BEGIN:VEVENT
UID:763569e83c4c521e012448@hockeytech.com
TZID:UTC
DTSTART:20230909T020000Z
DTEND:20230909T050000Z
DTSTAMP:20230909T020000
DESCRIPTION:You have an BCHL hockey game scheduled
LOCATION:South Okanagan Events Centre
SUMMARY:Trail Smoke Eaters @ Penticton Vees
STATUS:CONFIRMED
END:VEVENT
END:VCALENDAR