BEGIN:VCALENDAR
VERSION:2.0
PRODID:-//Hockeytech//Leaguestat iCal//EN
BEGIN:VEVENT
UID:512869e83d05b0ce512447@hockeytech.com
TZID:UTC
DTSTART:20230909T020000Z
DTEND:20230909T050000Z
DTSTAMP:20230909T020000
DESCRIPTION:You have an BCHL hockey game scheduled
LOCATION:Frank Crane Arena
SUMMARY:Alberni Valley Bulldogs @ Nanaimo Clippers
STATUS:CONFIRMED
END:VEVENT
END:VCALENDAR