BEGIN:VCALENDAR
VERSION:2.0
PRODID:-//Hockeytech//Leaguestat iCal//EN
BEGIN:VEVENT
UID:316269e83d6eeca0c12446@hockeytech.com
TZID:UTC
DTSTART:20230909T020000Z
DTEND:20230909T050000Z
DTSTAMP:20230909T020000
DESCRIPTION:You have an BCHL hockey game scheduled
LOCATION:Poirier Sports and Leisure Centre
SUMMARY:Langley Rivermen @ Coquitlam Express
STATUS:CONFIRMED
END:VEVENT
END:VCALENDAR