BEGIN:VCALENDAR
VERSION:2.0
PRODID:-//Hockeytech//Leaguestat iCal//EN
BEGIN:VEVENT
UID:441869e83c3d1ef3a12444@hockeytech.com
TZID:UTC
DTSTART:20230907T021500Z
DTEND:20230907T051500Z
DTSTAMP:20230907T021500
DESCRIPTION:You have an BCHL hockey game scheduled
LOCATION:George Preston Arena
SUMMARY:Coquitlam Express @ Langley Rivermen
STATUS:CONFIRMED
END:VEVENT
END:VCALENDAR