BEGIN:VCALENDAR
VERSION:2.0
PRODID:-//Hockeytech//Leaguestat iCal//EN
BEGIN:VEVENT
UID:337469e83cad8743512443@hockeytech.com
TZID:UTC
DTSTART:20230903T210000Z
DTEND:20230904T000000Z
DTSTAMP:20230903T210000
DESCRIPTION:You have an BCHL hockey game scheduled
LOCATION:Juan De Fuca Arena
SUMMARY:Nanaimo Clippers @ Victoria Grizzlies
STATUS:CONFIRMED
END:VEVENT
END:VCALENDAR