BEGIN:VCALENDAR
VERSION:2.0
PRODID:-//Hockeytech//Leaguestat iCal//EN
BEGIN:VEVENT
UID:1944369e8533dd4a2b12442@hockeytech.com
TZID:UTC
DTSTART:20230905T003000Z
DTEND:20230905T033000Z
DTSTAMP:20230905T003000
DESCRIPTION:You have an BCHL hockey game scheduled
LOCATION:South Surrey Arena
SUMMARY:Coquitlam Express @ Surrey Eagles
STATUS:CONFIRMED
END:VEVENT
END:VCALENDAR