BEGIN:VCALENDAR
VERSION:2.0
PRODID:-//Hockeytech//Leaguestat iCal//EN
BEGIN:VEVENT
UID:1946669e852592d2bd12441@hockeytech.com
TZID:UTC
DTSTART:20230903T230000Z
DTEND:20230904T020000Z
DTSTAMP:20230903T230000
DESCRIPTION:You have an BCHL hockey game scheduled
LOCATION:Kal Tire Place
SUMMARY:Trail Smoke Eaters @ Vernon Vipers
STATUS:CONFIRMED
END:VEVENT
END:VCALENDAR