BEGIN:VCALENDAR
VERSION:2.0
PRODID:-//Hockeytech//Leaguestat iCal//EN
BEGIN:VEVENT
UID:646169e85323eebbb12440@hockeytech.com
TZID:UTC
DTSTART:20230903T220000Z
DTEND:20230904T010000Z
DTSTAMP:20230903T220000
DESCRIPTION:You have an BCHL hockey game scheduled
LOCATION:Poirier Sports and Leisure Centre
SUMMARY:Surrey Eagles @ Coquitlam Express
STATUS:CONFIRMED
END:VEVENT
END:VCALENDAR